BEGIN:VCALENDAR
VERSION:2.0
PRODID:-//hacksw/handcal//NONSGML v1.0//EN
CALSCALE:GREGORIAN
BEGIN:VTIMEZONE
TZID:America/Edmonton
BEGIN:DAYLIGHT
TZOFFSETFROM:-0600
TZNAME:MDT
TZOFFSETTO:-0600
END:DAYLIGHT
END:VTIMEZONE
DTSTAMP:20260420T030808Z
UID:69e5ecf82d18e
BEGIN:VEVENT
LOCATION:Biblioteca CRAI , Carrera 15 Calle 12 Norte, Armenia (Quindio) CO 630004
DESCRIPTION:<p></p>

<p>Esta sesión de nivel intermedio dirigida principalmente a los administradores interesados en conocer elas alternativas que ofrece EBSCO Experience Manager.</p>

DTSTART;TZID=America/Edmonton:20250411T110000
DTEND;TZID=America/Edmonton:20250411T120000
SUMMARY:EBSCO Experience Manager. Generalidades
URL;VALUE=URI:/ebsco-experience-manager-generalidades-0
END:VEVENT
END:VCALENDAR